{"text_format":"1","workbook":"xlsx","n_sheets":2,"sheets":["Schülerblatt","Lehrerblatt"],"not_rendered":{"charts":0,"images":0,"macros":1,"external_links":0,"defined_names":2,"comments":0,"pivot_tables":0},"unopened":[],"bounds":{"document_bytes":16777216,"sheet_cells":100000,"rows_first":2000,"rows_last":500,"rows_between":2000,"halvings":0,"cell_chars":16384,"cell_head_chars":4096},"cells_cut":0,"cells_raw":0,"read":"whole","date_system":"1900"}

{"sheet":"Schülerblatt","index":0,"n_rows":300,"n_cols":3,"rows_kept":300,"cut":false,"hidden":false,"merged":[]}
["Trainingsblatt"]
[]
["Schreibe den Wert des Terms in die graue Spalte!"]
[]
[]
["Aufgabe","Antwort","Kontrolle"]
[{"$f":"IF(ISBLANK(Lehrerblatt!A2),\"\",Lehrerblatt!A2)","v":"14 im Quadrat"},196,{"$f":"IF(ISBLANK(B7),\"\",IF(B7=Lehrerblatt!B2,\"Richtig\",\"Falsch\"))","v":"Richtig"}]
[{"$f":"IF(ISBLANK(Lehrerblatt!A3),\"\",Lehrerblatt!A3)","v":"7 * 17"},109,{"$f":"IF(ISBLANK(B8),\"\",IF(B8=Lehrerblatt!B3,\"Richtig\",\"Falsch\"))","v":"Falsch"}]
[{"$f":"IF(ISBLANK(Lehrerblatt!A4),\"\",Lehrerblatt!A4)","v":"7 * 22"},154,{"$f":"IF(ISBLANK(B9),\"\",IF(B9=Lehrerblatt!B4,\"Richtig\",\"Falsch\"))","v":"Richtig"}]
[{"$f":"IF(ISBLANK(Lehrerblatt!A5),\"\",Lehrerblatt!A5)","v":"2 * 20"},40,{"$f":"IF(ISBLANK(B10),\"\",IF(B10=Lehrerblatt!B5,\"Richtig\",\"Falsch\"))","v":"Richtig"}]
[{"$f":"IF(ISBLANK(Lehrerblatt!A6),\"\",Lehrerblatt!A6)","v":"4 * 16"},64,{"$f":"IF(ISBLANK(B11),\"\",IF(B11=Lehrerblatt!B6,\"Richtig\",\"Falsch\"))","v":"Richtig"}]
[{"$f":"IF(ISBLANK(Lehrerblatt!A7),\"\",Lehrerblatt!A7)","v":"10 * 16"},null,{"$f":"IF(ISBLANK(B12),\"\",IF(B12=Lehrerblatt!B7,\"Richtig\",\"Falsch\"))","v":""}]
[{"$f":"IF(ISBLANK(Lehrerblatt!A8),\"\",Lehrerblatt!A8)","v":"7 * 15"},null,{"$f":"IF(ISBLANK(B13),\"\",IF(B13=Lehrerblatt!B8,\"Richtig\",\"Falsch\"))","v":""}]
[{"$f":"IF(ISBLANK(Lehrerblatt!A9),\"\",Lehrerblatt!A9)","v":"5 * 13"},null,{"$f":"IF(ISBLANK(B14),\"\",IF(B14=Lehrerblatt!B9,\"Richtig\",\"Falsch\"))","v":""}]
[{"$f":"IF(ISBLANK(Lehrerblatt!A10),\"\",Lehrerblatt!A10)","v":"21 im Quadrat"},null,{"$f":"IF(ISBLANK(B15),\"\",IF(B15=Lehrerblatt!B10,\"Richtig\",\"Falsch\"))","v":""}]
[{"$f":"IF(ISBLANK(Lehrerblatt!A11),\"\",Lehrerblatt!A11)","v":"7 * 23"},null,{"$f":"IF(ISBLANK(B16),\"\",IF(B16=Lehrerblatt!B11,\"Richtig\",\"Falsch\"))","v":""}]
[{"$f":"IF(ISBLANK(Lehrerblatt!A12),\"\",Lehrerblatt!A12)","v":"12 im Quadrat"},null,{"$f":"IF(ISBLANK(B17),\"\",IF(B17=Lehrerblatt!B12,\"Richtig\",\"Falsch\"))","v":""}]
[{"$f":"IF(ISBLANK(Lehrerblatt!A13),\"\",Lehrerblatt!A13)","v":"2 * 13"},null,{"$f":"IF(ISBLANK(B18),\"\",IF(B18=Lehrerblatt!B13,\"Richtig\",\"Falsch\"))","v":""}]
[{"$f":"IF(ISBLANK(Lehrerblatt!A14),\"\",Lehrerblatt!A14)","v":"15 im Quadrat"},null,{"$f":"IF(ISBLANK(B19),\"\",IF(B19=Lehrerblatt!B14,\"Richtig\",\"Falsch\"))","v":""}]
[{"$f":"IF(ISBLANK(Lehrerblatt!A15),\"\",Lehrerblatt!A15)","v":"8 * 45"},null,{"$f":"IF(ISBLANK(B20),\"\",IF(B20=Lehrerblatt!B15,\"Richtig\",\"Falsch\"))","v":""}]
[{"$f":"IF(ISBLANK(Lehrerblatt!A16),\"\",Lehrerblatt!A16)","v":"4 * 18"},null,{"$f":"IF(ISBLANK(B21),\"\",IF(B21=Lehrerblatt!B16,\"Richtig\",\"Falsch\"))","v":""}]
[{"$f":"IF(ISBLANK(Lehrerblatt!A17),\"\",Lehrerblatt!A17)","v":"7 * 12"},null,{"$f":"IF(ISBLANK(B22),\"\",IF(B22=Lehrerblatt!B17,\"Richtig\",\"Falsch\"))","v":""}]
[{"$f":"IF(ISBLANK(Lehrerblatt!A18),\"\",Lehrerblatt!A18)","v":"8 * 19"},null,{"$f":"IF(ISBLANK(B23),\"\",IF(B23=Lehrerblatt!B18,\"Richtig\",\"Falsch\"))","v":""}]
[{"$f":"IF(ISBLANK(Lehrerblatt!A19),\"\",Lehrerblatt!A19)","v":"4 * 17"},null,{"$f":"IF(ISBLANK(B24),\"\",IF(B24=Lehrerblatt!B19,\"Richtig\",\"Falsch\"))","v":""}]
[{"$f":"IF(ISBLANK(Lehrerblatt!A20),\"\",Lehrerblatt!A20)","v":"9 * 15"},null,{"$f":"IF(ISBLANK(B25),\"\",IF(B25=Lehrerblatt!B20,\"Richtig\",\"Falsch\"))","v":""}]
[{"$f":"IF(ISBLANK(Lehrerblatt!A21),\"\",Lehrerblatt!A21)","v":"9 * 20"},null,{"$f":"IF(ISBLANK(B26),\"\",IF(B26=Lehrerblatt!B21,\"Richtig\",\"Falsch\"))","v":""}]
[{"$f":"IF(ISBLANK(Lehrerblatt!A22),\"\",Lehrerblatt!A22)","v":"12 * 13"},null,{"$f":"IF(ISBLANK(B27),\"\",IF(B27=Lehrerblatt!B22,\"Richtig\",\"Falsch\"))","v":""}]
[{"$f":"IF(ISBLANK(Lehrerblatt!A23),\"\",Lehrerblatt!A23)","v":"13 im Quadrat"},null,{"$f":"IF(ISBLANK(B28),\"\",IF(B28=Lehrerblatt!B23,\"Richtig\",\"Falsch\"))","v":""}]
[{"$f":"IF(ISBLANK(Lehrerblatt!A24),\"\",Lehrerblatt!A24)","v":"8 * 24"},null,{"$f":"IF(ISBLANK(B29),\"\",IF(B29=Lehrerblatt!B24,\"Richtig\",\"Falsch\"))","v":""}]
[{"$f":"IF(ISBLANK(Lehrerblatt!A25),\"\",Lehrerblatt!A25)","v":"2 * 21"},null,{"$f":"IF(ISBLANK(B30),\"\",IF(B30=Lehrerblatt!B25,\"Richtig\",\"Falsch\"))","v":""}]
[{"$f":"IF(ISBLANK(Lehrerblatt!A26),\"\",Lehrerblatt!A26)","v":"2 * 14"},null,{"$f":"IF(ISBLANK(B31),\"\",IF(B31=Lehrerblatt!B26,\"Richtig\",\"Falsch\"))","v":""}]
[{"$f":"IF(ISBLANK(Lehrerblatt!A27),\"\",Lehrerblatt!A27)","v":"8 hoch 3"},null,{"$f":"IF(ISBLANK(B32),\"\",IF(B32=Lehrerblatt!B27,\"Richtig\",\"Falsch\"))","v":""}]
[{"$f":"IF(ISBLANK(Lehrerblatt!A28),\"\",Lehrerblatt!A28)","v":"6 * 15"},null,{"$f":"IF(ISBLANK(B33),\"\",IF(B33=Lehrerblatt!B28,\"Richtig\",\"Falsch\"))","v":""}]
[{"$f":"IF(ISBLANK(Lehrerblatt!A29),\"\",Lehrerblatt!A29)","v":"9 * 18"},null,{"$f":"IF(ISBLANK(B34),\"\",IF(B34=Lehrerblatt!B29,\"Richtig\",\"Falsch\"))","v":""}]
[{"$f":"IF(ISBLANK(Lehrerblatt!A30),\"\",Lehrerblatt!A30)","v":"7 * 16"},null,{"$f":"IF(ISBLANK(B35),\"\",IF(B35=Lehrerblatt!B30,\"Richtig\",\"Falsch\"))","v":""}]
[{"$f":"IF(ISBLANK(Lehrerblatt!A31),\"\",Lehrerblatt!A31)","v":"4 * 22"},null,{"$f":"IF(ISBLANK(B36),\"\",IF(B36=Lehrerblatt!B31,\"Richtig\",\"Falsch\"))","v":""}]
[{"$f":"IF(ISBLANK(Lehrerblatt!A32),\"\",Lehrerblatt!A32)","v":"3 * 16"},null,{"$f":"IF(ISBLANK(B37),\"\",IF(B37=Lehrerblatt!B32,\"Richtig\",\"Falsch\"))","v":""}]
[{"$f":"IF(ISBLANK(Lehrerblatt!A33),\"\",Lehrerblatt!A33)","v":"18 im Quadrat"},null,{"$f":"IF(ISBLANK(B38),\"\",IF(B38=Lehrerblatt!B33,\"Richtig\",\"Falsch\"))","v":""}]
[{"$f":"IF(ISBLANK(Lehrerblatt!A34),\"\",Lehrerblatt!A34)","v":"8 * 15"},null,{"$f":"IF(ISBLANK(B39),\"\",IF(B39=Lehrerblatt!B34,\"Richtig\",\"Falsch\"))","v":""}]
[{"$f":"IF(ISBLANK(Lehrerblatt!A35),\"\",Lehrerblatt!A35)","v":"10 * 18"},null,{"$f":"IF(ISBLANK(B40),\"\",IF(B40=Lehrerblatt!B35,\"Richtig\",\"Falsch\"))","v":""}]
[{"$f":"IF(ISBLANK(Lehrerblatt!A36),\"\",Lehrerblatt!A36)","v":"10 * 25"},null,{"$f":"IF(ISBLANK(B41),\"\",IF(B41=Lehrerblatt!B36,\"Richtig\",\"Falsch\"))","v":""}]
[{"$f":"IF(ISBLANK(Lehrerblatt!A37),\"\",Lehrerblatt!A37)","v":"16 im Quadrat"},null,{"$f":"IF(ISBLANK(B42),\"\",IF(B42=Lehrerblatt!B37,\"Richtig\",\"Falsch\"))","v":""}]
[{"$f":"IF(ISBLANK(Lehrerblatt!A38),\"\",Lehrerblatt!A38)","v":"11 im Quadrat"},null,{"$f":"IF(ISBLANK(B43),\"\",IF(B43=Lehrerblatt!B38,\"Richtig\",\"Falsch\"))","v":""}]
[{"$f":"IF(ISBLANK(Lehrerblatt!A39),\"\",Lehrerblatt!A39)","v":"6 * 24"},null,{"$f":"IF(ISBLANK(B44),\"\",IF(B44=Lehrerblatt!B39,\"Richtig\",\"Falsch\"))","v":""}]
[{"$f":"IF(ISBLANK(Lehrerblatt!A40),\"\",Lehrerblatt!A40)","v":"5 * 18"},null,{"$f":"IF(ISBLANK(B45),\"\",IF(B45=Lehrerblatt!B40,\"Richtig\",\"Falsch\"))","v":""}]
[{"$f":"IF(ISBLANK(Lehrerblatt!A41),\"\",Lehrerblatt!A41)","v":"3 * 23"},null,{"$f":"IF(ISBLANK(B46),\"\",IF(B46=Lehrerblatt!B41,\"Richtig\",\"Falsch\"))","v":""}]
[{"$f":"IF(ISBLANK(Lehrerblatt!A42),\"\",Lehrerblatt!A42)","v":"2 * 15"},null,{"$f":"IF(ISBLANK(B47),\"\",IF(B47=Lehrerblatt!B42,\"Richtig\",\"Falsch\"))","v":""}]
[{"$f":"IF(ISBLANK(Lehrerblatt!A43),\"\",Lehrerblatt!A43)","v":"7 * 25"},null,{"$f":"IF(ISBLANK(B48),\"\",IF(B48=Lehrerblatt!B43,\"Richtig\",\"Falsch\"))","v":""}]
[{"$f":"IF(ISBLANK(Lehrerblatt!A44),\"\",Lehrerblatt!A44)","v":"3 * 78"},null,{"$f":"IF(ISBLANK(B49),\"\",IF(B49=Lehrerblatt!B44,\"Richtig\",\"Falsch\"))","v":""}]
[{"$f":"IF(ISBLANK(Lehrerblatt!A45),\"\",Lehrerblatt!A45)","v":"9 * 12"},null,{"$f":"IF(ISBLANK(B50),\"\",IF(B50=Lehrerblatt!B45,\"Richtig\",\"Falsch\"))","v":""}]
[{"$f":"IF(ISBLANK(Lehrerblatt!A46),\"\",Lehrerblatt!A46)","v":"9 * 23"},null,{"$f":"IF(ISBLANK(B51),\"\",IF(B51=Lehrerblatt!B46,\"Richtig\",\"Falsch\"))","v":""}]
[{"$f":"IF(ISBLANK(Lehrerblatt!A47),\"\",Lehrerblatt!A47)","v":"4 * 12"},null,{"$f":"IF(ISBLANK(B52),\"\",IF(B52=Lehrerblatt!B47,\"Richtig\",\"Falsch\"))","v":""}]
[{"$f":"IF(ISBLANK(Lehrerblatt!A48),\"\",Lehrerblatt!A48)","v":"9 * 19"},null,{"$f":"IF(ISBLANK(B53),\"\",IF(B53=Lehrerblatt!B48,\"Richtig\",\"Falsch\"))","v":""}]
[{"$f":"IF(ISBLANK(Lehrerblatt!A49),\"\",Lehrerblatt!A49)","v":"5 * 11"},null,{"$f":"IF(ISBLANK(B54),\"\",IF(B54=Lehrerblatt!B49,\"Richtig\",\"Falsch\"))","v":""}]
[{"$f":"IF(ISBLANK(Lehrerblatt!A50),\"\",Lehrerblatt!A50)","v":"10 * 17"},null,{"$f":"IF(ISBLANK(B55),\"\",IF(B55=Lehrerblatt!B50,\"Richtig\",\"Falsch\"))","v":""}]
[{"$f":"IF(ISBLANK(Lehrerblatt!A51),\"\",Lehrerblatt!A51)","v":"17 im Quadrat"},null,{"$f":"IF(ISBLANK(B56),\"\",IF(B56=Lehrerblatt!B51,\"Richtig\",\"Falsch\"))","v":""}]
[{"$f":"IF(ISBLANK(Lehrerblatt!A52),\"\",Lehrerblatt!A52)","v":"8 * 22"},null,{"$f":"IF(ISBLANK(B57),\"\",IF(B57=Lehrerblatt!B52,\"Richtig\",\"Falsch\"))","v":""}]
[{"$f":"IF(ISBLANK(Lehrerblatt!A53),\"\",Lehrerblatt!A53)","v":"10 * 19"},null,{"$f":"IF(ISBLANK(B58),\"\",IF(B58=Lehrerblatt!B53,\"Richtig\",\"Falsch\"))","v":""}]
[{"$f":"IF(ISBLANK(Lehrerblatt!A54),\"\",Lehrerblatt!A54)","v":"22 im Quadrat"},null,{"$f":"IF(ISBLANK(B59),\"\",IF(B59=Lehrerblatt!B54,\"Richtig\",\"Falsch\"))","v":""}]
[{"$f":"IF(ISBLANK(Lehrerblatt!A55),\"\",Lehrerblatt!A55)","v":"2 * 23"},null,{"$f":"IF(ISBLANK(B60),\"\",IF(B60=Lehrerblatt!B55,\"Richtig\",\"Falsch\"))","v":""}]
[{"$f":"IF(ISBLANK(Lehrerblatt!A56),\"\",Lehrerblatt!A56)","v":"3 * 22"},null,{"$f":"IF(ISBLANK(B61),\"\",IF(B61=Lehrerblatt!B56,\"Richtig\",\"Falsch\"))","v":""}]
[{"$f":"IF(ISBLANK(Lehrerblatt!A57),\"\",Lehrerblatt!A57)","v":"2 * 22"},null,{"$f":"IF(ISBLANK(B62),\"\",IF(B62=Lehrerblatt!B57,\"Richtig\",\"Falsch\"))","v":""}]
[{"$f":"IF(ISBLANK(Lehrerblatt!A58),\"\",Lehrerblatt!A58)","v":"4 * 23"},null,{"$f":"IF(ISBLANK(B63),\"\",IF(B63=Lehrerblatt!B58,\"Richtig\",\"Falsch\"))","v":""}]
[{"$f":"IF(ISBLANK(Lehrerblatt!A59),\"\",Lehrerblatt!A59)","v":"5 * 27"},null,{"$f":"IF(ISBLANK(B64),\"\",IF(B64=Lehrerblatt!B59,\"Richtig\",\"Falsch\"))","v":""}]
[{"$f":"IF(ISBLANK(Lehrerblatt!A60),\"\",Lehrerblatt!A60)","v":"8 * 13"},null,{"$f":"IF(ISBLANK(B65),\"\",IF(B65=Lehrerblatt!B60,\"Richtig\",\"Falsch\"))","v":""}]
[{"$f":"IF(ISBLANK(Lehrerblatt!A61),\"\",Lehrerblatt!A61)","v":"30 im Quadrat"},null,{"$f":"IF(ISBLANK(B66),\"\",IF(B66=Lehrerblatt!B61,\"Richtig\",\"Falsch\"))","v":""}]
[{"$f":"IF(ISBLANK(Lehrerblatt!A62),\"\",Lehrerblatt!A62)","v":"3 * 25"},null,{"$f":"IF(ISBLANK(B67),\"\",IF(B67=Lehrerblatt!B62,\"Richtig\",\"Falsch\"))","v":""}]
[{"$f":"IF(ISBLANK(Lehrerblatt!A63),\"\",Lehrerblatt!A63)","v":"8 * 20"},null,{"$f":"IF(ISBLANK(B68),\"\",IF(B68=Lehrerblatt!B63,\"Richtig\",\"Falsch\"))","v":""}]
[{"$f":"IF(ISBLANK(Lehrerblatt!A64),\"\",Lehrerblatt!A64)","v":"3 hoch 3"},null,{"$f":"IF(ISBLANK(B69),\"\",IF(B69=Lehrerblatt!B64,\"Richtig\",\"Falsch\"))","v":""}]
[{"$f":"IF(ISBLANK(Lehrerblatt!A65),\"\",Lehrerblatt!A65)","v":"4 * 24"},null,{"$f":"IF(ISBLANK(B70),\"\",IF(B70=Lehrerblatt!B65,\"Richtig\",\"Falsch\"))","v":""}]
[{"$f":"IF(ISBLANK(Lehrerblatt!A66),\"\",Lehrerblatt!A66)","v":"3 * 49"},null,{"$f":"IF(ISBLANK(B71),\"\",IF(B71=Lehrerblatt!B66,\"Richtig\",\"Falsch\"))","v":""}]
[{"$f":"IF(ISBLANK(Lehrerblatt!A67),\"\",Lehrerblatt!A67)","v":"7 * 42"},null,{"$f":"IF(ISBLANK(B72),\"\",IF(B72=Lehrerblatt!B67,\"Richtig\",\"Falsch\"))","v":""}]
[{"$f":"IF(ISBLANK(Lehrerblatt!A68),\"\",Lehrerblatt!A68)","v":"5 * 24"},null,{"$f":"IF(ISBLANK(B73),\"\",IF(B73=Lehrerblatt!B68,\"Richtig\",\"Falsch\"))","v":""}]
[{"$f":"IF(ISBLANK(Lehrerblatt!A69),\"\",Lehrerblatt!A69)","v":"9 * 13"},null,{"$f":"IF(ISBLANK(B74),\"\",IF(B74=Lehrerblatt!B69,\"Richtig\",\"Falsch\"))","v":""}]
[{"$f":"IF(ISBLANK(Lehrerblatt!A70),\"\",Lehrerblatt!A70)","v":"2 * 78"},null,{"$f":"IF(ISBLANK(B75),\"\",IF(B75=Lehrerblatt!B70,\"Richtig\",\"Falsch\"))","v":""}]
[{"$f":"IF(ISBLANK(Lehrerblatt!A71),\"\",Lehrerblatt!A71)","v":"6 * 42"},null,{"$f":"IF(ISBLANK(B76),\"\",IF(B76=Lehrerblatt!B71,\"Richtig\",\"Falsch\"))","v":""}]
[{"$f":"IF(ISBLANK(Lehrerblatt!A72),\"\",Lehrerblatt!A72)","v":"3 * 46"},null,{"$f":"IF(ISBLANK(B77),\"\",IF(B77=Lehrerblatt!B72,\"Richtig\",\"Falsch\"))","v":""}]
[{"$f":"IF(ISBLANK(Lehrerblatt!A73),\"\",Lehrerblatt!A73)","v":"70 im Quadrat"},null,{"$f":"IF(ISBLANK(B78),\"\",IF(B78=Lehrerblatt!B73,\"Richtig\",\"Falsch\"))","v":""}]
[{"$f":"IF(ISBLANK(Lehrerblatt!A74),\"\",Lehrerblatt!A74)","v":"3 * 15"},null,{"$f":"IF(ISBLANK(B79),\"\",IF(B79=Lehrerblatt!B74,\"Richtig\",\"Falsch\"))","v":""}]
[{"$f":"IF(ISBLANK(Lehrerblatt!A75),\"\",Lehrerblatt!A75)","v":"10 * 23"},null,{"$f":"IF(ISBLANK(B80),\"\",IF(B80=Lehrerblatt!B75,\"Richtig\",\"Falsch\"))","v":""}]
[{"$f":"IF(ISBLANK(Lehrerblatt!A76),\"\",Lehrerblatt!A76)","v":"5 * 25"},null,{"$f":"IF(ISBLANK(B81),\"\",IF(B81=Lehrerblatt!B76,\"Richtig\",\"Falsch\"))","v":""}]
[{"$f":"IF(ISBLANK(Lehrerblatt!A77),\"\",Lehrerblatt!A77)","v":"6 * 23"},null,{"$f":"IF(ISBLANK(B82),\"\",IF(B82=Lehrerblatt!B77,\"Richtig\",\"Falsch\"))","v":""}]
[{"$f":"IF(ISBLANK(Lehrerblatt!A78),\"\",Lehrerblatt!A78)","v":"23 im Quadrat"},null,{"$f":"IF(ISBLANK(B83),\"\",IF(B83=Lehrerblatt!B78,\"Richtig\",\"Falsch\"))","v":""}]
[{"$f":"IF(ISBLANK(Lehrerblatt!A79),\"\",Lehrerblatt!A79)","v":"7 * 21"},null,{"$f":"IF(ISBLANK(B84),\"\",IF(B84=Lehrerblatt!B79,\"Richtig\",\"Falsch\"))","v":""}]
[{"$f":"IF(ISBLANK(Lehrerblatt!A80),\"\",Lehrerblatt!A80)","v":"2 hoch 3"},null,{"$f":"IF(ISBLANK(B85),\"\",IF(B85=Lehrerblatt!B80,\"Richtig\",\"Falsch\"))","v":""}]
[{"$f":"IF(ISBLANK(Lehrerblatt!A81),\"\",Lehrerblatt!A81)","v":"10 * 14"},null,{"$f":"IF(ISBLANK(B86),\"\",IF(B86=Lehrerblatt!B81,\"Richtig\",\"Falsch\"))","v":""}]
[{"$f":"IF(ISBLANK(Lehrerblatt!A82),\"\",Lehrerblatt!A82)","v":"3 * 18"},null,{"$f":"IF(ISBLANK(B87),\"\",IF(B87=Lehrerblatt!B82,\"Richtig\",\"Falsch\"))","v":""}]
[{"$f":"IF(ISBLANK(Lehrerblatt!A83),\"\",Lehrerblatt!A83)","v":"9 * 14"},null,{"$f":"IF(ISBLANK(B88),\"\",IF(B88=Lehrerblatt!B83,\"Richtig\",\"Falsch\"))","v":""}]
[{"$f":"IF(ISBLANK(Lehrerblatt!A84),\"\",Lehrerblatt!A84)","v":"3 * 24"},null,{"$f":"IF(ISBLANK(B89),\"\",IF(B89=Lehrerblatt!B84,\"Richtig\",\"Falsch\"))","v":""}]
[{"$f":"IF(ISBLANK(Lehrerblatt!A85),\"\",Lehrerblatt!A85)","v":"3 * 17"},null,{"$f":"IF(ISBLANK(B90),\"\",IF(B90=Lehrerblatt!B85,\"Richtig\",\"Falsch\"))","v":""}]
[{"$f":"IF(ISBLANK(Lehrerblatt!A86),\"\",Lehrerblatt!A86)","v":"19 im Quadrat"},null,{"$f":"IF(ISBLANK(B91),\"\",IF(B91=Lehrerblatt!B86,\"Richtig\",\"Falsch\"))","v":""}]
[{"$f":"IF(ISBLANK(Lehrerblatt!A87),\"\",Lehrerblatt!A87)","v":"10 * 11"},null,{"$f":"IF(ISBLANK(B92),\"\",IF(B92=Lehrerblatt!B87,\"Richtig\",\"Falsch\"))","v":""}]
[{"$f":"IF(ISBLANK(Lehrerblatt!A88),\"\",Lehrerblatt!A88)","v":"7 * 14"},null,{"$f":"IF(ISBLANK(B93),\"\",IF(B93=Lehrerblatt!B88,\"Richtig\",\"Falsch\"))","v":""}]
[{"$f":"IF(ISBLANK(Lehrerblatt!A89),\"\",Lehrerblatt!A89)","v":"5 * 16"},null,{"$f":"IF(ISBLANK(B94),\"\",IF(B94=Lehrerblatt!B89,\"Richtig\",\"Falsch\"))","v":""}]
[{"$f":"IF(ISBLANK(Lehrerblatt!A90),\"\",Lehrerblatt!A90)","v":"7 * 18"},null,{"$f":"IF(ISBLANK(B95),\"\",IF(B95=Lehrerblatt!B90,\"Richtig\",\"Falsch\"))","v":""}]
[{"$f":"IF(ISBLANK(Lehrerblatt!A91),\"\",Lehrerblatt!A91)","v":"7 * 24"},null,{"$f":"IF(ISBLANK(B96),\"\",IF(B96=Lehrerblatt!B91,\"Richtig\",\"Falsch\"))","v":""}]
[{"$f":"IF(ISBLANK(Lehrerblatt!A92),\"\",Lehrerblatt!A92)","v":"7 * 38"},null,{"$f":"IF(ISBLANK(B97),\"\",IF(B97=Lehrerblatt!B92,\"Richtig\",\"Falsch\"))","v":""}]
[{"$f":"IF(ISBLANK(Lehrerblatt!A93),\"\",Lehrerblatt!A93)","v":"8 * 21"},null,{"$f":"IF(ISBLANK(B98),\"\",IF(B98=Lehrerblatt!B93,\"Richtig\",\"Falsch\"))","v":""}]
[{"$f":"IF(ISBLANK(Lehrerblatt!A94),\"\",Lehrerblatt!A94)","v":"4 * 11"},null,{"$f":"IF(ISBLANK(B99),\"\",IF(B99=Lehrerblatt!B94,\"Richtig\",\"Falsch\"))","v":""}]
[{"$f":"IF(ISBLANK(Lehrerblatt!A95),\"\",Lehrerblatt!A95)","v":"9 * 17"},null,{"$f":"IF(ISBLANK(B100),\"\",IF(B100=Lehrerblatt!B95,\"Richtig\",\"Falsch\"))","v":""}]
[{"$f":"IF(ISBLANK(Lehrerblatt!A96),\"\",Lehrerblatt!A96)","v":"9 * 25"},null,{"$f":"IF(ISBLANK(B101),\"\",IF(B101=Lehrerblatt!B96,\"Richtig\",\"Falsch\"))","v":""}]
[{"$f":"IF(ISBLANK(Lehrerblatt!A97),\"\",Lehrerblatt!A97)","v":"7 * 20"},null,{"$f":"IF(ISBLANK(B102),\"\",IF(B102=Lehrerblatt!B97,\"Richtig\",\"Falsch\"))","v":""}]
[{"$f":"IF(ISBLANK(Lehrerblatt!A98),\"\",Lehrerblatt!A98)","v":"2 * 12"},null,{"$f":"IF(ISBLANK(B103),\"\",IF(B103=Lehrerblatt!B98,\"Richtig\",\"Falsch\"))","v":""}]
[{"$f":"IF(ISBLANK(Lehrerblatt!A99),\"\",Lehrerblatt!A99)","v":"9 * 21"},null,{"$f":"IF(ISBLANK(B104),\"\",IF(B104=Lehrerblatt!B99,\"Richtig\",\"Falsch\"))","v":""}]
[{"$f":"IF(ISBLANK(Lehrerblatt!A100),\"\",Lehrerblatt!A100)","v":"6 hoch 3"},null,{"$f":"IF(ISBLANK(B105),\"\",IF(B105=Lehrerblatt!B100,\"Richtig\",\"Falsch\"))","v":""}]
[{"$f":"IF(ISBLANK(Lehrerblatt!A101),\"\",Lehrerblatt!A101)","v":"5 * 21"},null,{"$f":"IF(ISBLANK(B106),\"\",IF(B106=Lehrerblatt!B101,\"Richtig\",\"Falsch\"))","v":""}]
[{"$f":"IF(ISBLANK(Lehrerblatt!A102),\"\",Lehrerblatt!A102)","v":"11 * 28"},null,{"$f":"IF(ISBLANK(B107),\"\",IF(B107=Lehrerblatt!B102,\"Richtig\",\"Falsch\"))","v":""}]
[{"$f":"IF(ISBLANK(Lehrerblatt!A103),\"\",Lehrerblatt!A103)","v":"7 * 11"},null,{"$f":"IF(ISBLANK(B108),\"\",IF(B108=Lehrerblatt!B103,\"Richtig\",\"Falsch\"))","v":""}]
[{"$f":"IF(ISBLANK(Lehrerblatt!A104),\"\",Lehrerblatt!A104)","v":"9 * 34"},null,{"$f":"IF(ISBLANK(B109),\"\",IF(B109=Lehrerblatt!B104,\"Richtig\",\"Falsch\"))","v":""}]
[{"$f":"IF(ISBLANK(Lehrerblatt!A105),\"\",Lehrerblatt!A105)","v":"3 * 19"},null,{"$f":"IF(ISBLANK(B110),\"\",IF(B110=Lehrerblatt!B105,\"Richtig\",\"Falsch\"))","v":""}]
[{"$f":"IF(ISBLANK(Lehrerblatt!A106),\"\",Lehrerblatt!A106)","v":"4 * 14"},null,{"$f":"IF(ISBLANK(B111),\"\",IF(B111=Lehrerblatt!B106,\"Richtig\",\"Falsch\"))","v":""}]
[{"$f":"IF(ISBLANK(Lehrerblatt!A107),\"\",Lehrerblatt!A107)","v":"10 hoch 3"},null,{"$f":"IF(ISBLANK(B112),\"\",IF(B112=Lehrerblatt!B107,\"Richtig\",\"Falsch\"))","v":""}]
[{"$f":"IF(ISBLANK(Lehrerblatt!A108),\"\",Lehrerblatt!A108)","v":"5 * 19"},null,{"$f":"IF(ISBLANK(B113),\"\",IF(B113=Lehrerblatt!B108,\"Richtig\",\"Falsch\"))","v":""}]
[{"$f":"IF(ISBLANK(Lehrerblatt!A109),\"\",Lehrerblatt!A109)","v":"10 * 21"},null,{"$f":"IF(ISBLANK(B114),\"\",IF(B114=Lehrerblatt!B109,\"Richtig\",\"Falsch\"))","v":""}]
[{"$f":"IF(ISBLANK(Lehrerblatt!A110),\"\",Lehrerblatt!A110)","v":"10 * 15"},null,{"$f":"IF(ISBLANK(B115),\"\",IF(B115=Lehrerblatt!B110,\"Richtig\",\"Falsch\"))","v":""}]
[{"$f":"IF(ISBLANK(Lehrerblatt!A111),\"\",Lehrerblatt!A111)","v":"90 im Quadrat"},null,{"$f":"IF(ISBLANK(B116),\"\",IF(B116=Lehrerblatt!B111,\"Richtig\",\"Falsch\"))","v":""}]
[{"$f":"IF(ISBLANK(Lehrerblatt!A112),\"\",Lehrerblatt!A112)","v":"6 * 14"},null,{"$f":"IF(ISBLANK(B117),\"\",IF(B117=Lehrerblatt!B112,\"Richtig\",\"Falsch\"))","v":""}]
[{"$f":"IF(ISBLANK(Lehrerblatt!A113),\"\",Lehrerblatt!A113)","v":"3 * 14"},null,{"$f":"IF(ISBLANK(B118),\"\",IF(B118=Lehrerblatt!B113,\"Richtig\",\"Falsch\"))","v":""}]
[{"$f":"IF(ISBLANK(Lehrerblatt!A114),\"\",Lehrerblatt!A114)","v":"24 im Quadrat"},null,{"$f":"IF(ISBLANK(B119),\"\",IF(B119=Lehrerblatt!B114,\"Richtig\",\"Falsch\"))","v":""}]
[{"$f":"IF(ISBLANK(Lehrerblatt!A115),\"\",Lehrerblatt!A115)","v":"7 * 33"},null,{"$f":"IF(ISBLANK(B120),\"\",IF(B120=Lehrerblatt!B115,\"Richtig\",\"Falsch\"))","v":""}]
[{"$f":"IF(ISBLANK(Lehrerblatt!A116),\"\",Lehrerblatt!A116)","v":"4 * 58"},null,{"$f":"IF(ISBLANK(B121),\"\",IF(B121=Lehrerblatt!B116,\"Richtig\",\"Falsch\"))","v":""}]
[{"$f":"IF(ISBLANK(Lehrerblatt!A117),\"\",Lehrerblatt!A117)","v":"10 * 20"},null,{"$f":"IF(ISBLANK(B122),\"\",IF(B122=Lehrerblatt!B117,\"Richtig\",\"Falsch\"))","v":""}]
[{"$f":"IF(ISBLANK(Lehrerblatt!A118),\"\",Lehrerblatt!A118)","v":"5 * 14"},null,{"$f":"IF(ISBLANK(B123),\"\",IF(B123=Lehrerblatt!B118,\"Richtig\",\"Falsch\"))","v":""}]
[{"$f":"IF(ISBLANK(Lehrerblatt!A119),\"\",Lehrerblatt!A119)","v":"8 * 17"},null,{"$f":"IF(ISBLANK(B124),\"\",IF(B124=Lehrerblatt!B119,\"Richtig\",\"Falsch\"))","v":""}]
[{"$f":"IF(ISBLANK(Lehrerblatt!A120),\"\",Lehrerblatt!A120)","v":"5 * 15"},null,{"$f":"IF(ISBLANK(B125),\"\",IF(B125=Lehrerblatt!B120,\"Richtig\",\"Falsch\"))","v":""}]
[{"$f":"IF(ISBLANK(Lehrerblatt!A121),\"\",Lehrerblatt!A121)","v":"6 * 22"},null,{"$f":"IF(ISBLANK(B126),\"\",IF(B126=Lehrerblatt!B121,\"Richtig\",\"Falsch\"))","v":""}]
[{"$f":"IF(ISBLANK(Lehrerblatt!A122),\"\",Lehrerblatt!A122)","v":"4 hoch 3"},null,{"$f":"IF(ISBLANK(B127),\"\",IF(B127=Lehrerblatt!B122,\"Richtig\",\"Falsch\"))","v":""}]
[{"$f":"IF(ISBLANK(Lehrerblatt!A123),\"\",Lehrerblatt!A123)","v":"8 * 14"},null,{"$f":"IF(ISBLANK(B128),\"\",IF(B128=Lehrerblatt!B123,\"Richtig\",\"Falsch\"))","v":""}]
[{"$f":"IF(ISBLANK(Lehrerblatt!A124),\"\",Lehrerblatt!A124)","v":"4 * 20"},null,{"$f":"IF(ISBLANK(B129),\"\",IF(B129=Lehrerblatt!B124,\"Richtig\",\"Falsch\"))","v":""}]
[{"$f":"IF(ISBLANK(Lehrerblatt!A125),\"\",Lehrerblatt!A125)","v":"20 im Quadrat"},null,{"$f":"IF(ISBLANK(B130),\"\",IF(B130=Lehrerblatt!B125,\"Richtig\",\"Falsch\"))","v":""}]
[{"$f":"IF(ISBLANK(Lehrerblatt!A126),\"\",Lehrerblatt!A126)","v":"3 * 12"},null,{"$f":"IF(ISBLANK(B131),\"\",IF(B131=Lehrerblatt!B126,\"Richtig\",\"Falsch\"))","v":""}]
[{"$f":"IF(ISBLANK(Lehrerblatt!A127),\"\",Lehrerblatt!A127)","v":"5 * 20"},null,{"$f":"IF(ISBLANK(B132),\"\",IF(B132=Lehrerblatt!B127,\"Richtig\",\"Falsch\"))","v":""}]
[{"$f":"IF(ISBLANK(Lehrerblatt!A128),\"\",Lehrerblatt!A128)","v":"6 * 20"},null,{"$f":"IF(ISBLANK(B133),\"\",IF(B133=Lehrerblatt!B128,\"Richtig\",\"Falsch\"))","v":""}]
[{"$f":"IF(ISBLANK(Lehrerblatt!A129),\"\",Lehrerblatt!A129)","v":"6 * 19"},null,{"$f":"IF(ISBLANK(B134),\"\",IF(B134=Lehrerblatt!B129,\"Richtig\",\"Falsch\"))","v":""}]
[{"$f":"IF(ISBLANK(Lehrerblatt!A130),\"\",Lehrerblatt!A130)","v":"5 * 17"},null,{"$f":"IF(ISBLANK(B135),\"\",IF(B135=Lehrerblatt!B130,\"Richtig\",\"Falsch\"))","v":""}]
[{"$f":"IF(ISBLANK(Lehrerblatt!A131),\"\",Lehrerblatt!A131)","v":"6 * 16"},null,{"$f":"IF(ISBLANK(B136),\"\",IF(B136=Lehrerblatt!B131,\"Richtig\",\"Falsch\"))","v":""}]
[{"$f":"IF(ISBLANK(Lehrerblatt!A132),\"\",Lehrerblatt!A132)","v":"3 * 21"},null,{"$f":"IF(ISBLANK(B137),\"\",IF(B137=Lehrerblatt!B132,\"Richtig\",\"Falsch\"))","v":""}]
[{"$f":"IF(ISBLANK(Lehrerblatt!A133),\"\",Lehrerblatt!A133)","v":"9 * 11"},null,{"$f":"IF(ISBLANK(B138),\"\",IF(B138=Lehrerblatt!B133,\"Richtig\",\"Falsch\"))","v":""}]
[{"$f":"IF(ISBLANK(Lehrerblatt!A134),\"\",Lehrerblatt!A134)","v":"2 * 18"},null,{"$f":"IF(ISBLANK(B139),\"\",IF(B139=Lehrerblatt!B134,\"Richtig\",\"Falsch\"))","v":""}]
[{"$f":"IF(ISBLANK(Lehrerblatt!A135),\"\",Lehrerblatt!A135)","v":"4 * 13"},null,{"$f":"IF(ISBLANK(B140),\"\",IF(B140=Lehrerblatt!B135,\"Richtig\",\"Falsch\"))","v":""}]
[{"$f":"IF(ISBLANK(Lehrerblatt!A136),\"\",Lehrerblatt!A136)","v":"5 * 59"},null,{"$f":"IF(ISBLANK(B141),\"\",IF(B141=Lehrerblatt!B136,\"Richtig\",\"Falsch\"))","v":""}]
[{"$f":"IF(ISBLANK(Lehrerblatt!A137),\"\",Lehrerblatt!A137)","v":"4 * 15"},null,{"$f":"IF(ISBLANK(B142),\"\",IF(B142=Lehrerblatt!B137,\"Richtig\",\"Falsch\"))","v":""}]
[{"$f":"IF(ISBLANK(Lehrerblatt!A138),\"\",Lehrerblatt!A138)","v":"25 im Quadrat"},null,{"$f":"IF(ISBLANK(B143),\"\",IF(B143=Lehrerblatt!B138,\"Richtig\",\"Falsch\"))","v":""}]
[{"$f":"IF(ISBLANK(Lehrerblatt!A139),\"\",Lehrerblatt!A139)","v":"5 * 23"},null,{"$f":"IF(ISBLANK(B144),\"\",IF(B144=Lehrerblatt!B139,\"Richtig\",\"Falsch\"))","v":""}]
[{"$f":"IF(ISBLANK(Lehrerblatt!A140),\"\",Lehrerblatt!A140)","v":"6 * 21"},null,{"$f":"IF(ISBLANK(B145),\"\",IF(B145=Lehrerblatt!B140,\"Richtig\",\"Falsch\"))","v":""}]
[{"$f":"IF(ISBLANK(Lehrerblatt!A141),\"\",Lehrerblatt!A141)","v":"40 im Quadrat"},null,{"$f":"IF(ISBLANK(B146),\"\",IF(B146=Lehrerblatt!B141,\"Richtig\",\"Falsch\"))","v":""}]
[{"$f":"IF(ISBLANK(Lehrerblatt!A142),\"\",Lehrerblatt!A142)","v":"8 * 25"},null,{"$f":"IF(ISBLANK(B147),\"\",IF(B147=Lehrerblatt!B142,\"Richtig\",\"Falsch\"))","v":""}]
[{"$f":"IF(ISBLANK(Lehrerblatt!A143),\"\",Lehrerblatt!A143)","v":"4 * 21"},null,{"$f":"IF(ISBLANK(B148),\"\",IF(B148=Lehrerblatt!B143,\"Richtig\",\"Falsch\"))","v":""}]
[{"$f":"IF(ISBLANK(Lehrerblatt!A144),\"\",Lehrerblatt!A144)","v":"8 * 11"},null,{"$f":"IF(ISBLANK(B149),\"\",IF(B149=Lehrerblatt!B144,\"Richtig\",\"Falsch\"))","v":""}]
[{"$f":"IF(ISBLANK(Lehrerblatt!A145),\"\",Lehrerblatt!A145)","v":"9 * 32"},null,{"$f":"IF(ISBLANK(B150),\"\",IF(B150=Lehrerblatt!B145,\"Richtig\",\"Falsch\"))","v":""}]
[{"$f":"IF(ISBLANK(Lehrerblatt!A146),\"\",Lehrerblatt!A146)","v":"7 * 49"},null,{"$f":"IF(ISBLANK(B151),\"\",IF(B151=Lehrerblatt!B146,\"Richtig\",\"Falsch\"))","v":""}]
[{"$f":"IF(ISBLANK(Lehrerblatt!A147),\"\",Lehrerblatt!A147)","v":"5 * 22"},null,{"$f":"IF(ISBLANK(B152),\"\",IF(B152=Lehrerblatt!B147,\"Richtig\",\"Falsch\"))","v":""}]
[{"$f":"IF(ISBLANK(Lehrerblatt!A148),\"\",Lehrerblatt!A148)","v":"6 * 13"},null,{"$f":"IF(ISBLANK(B153),\"\",IF(B153=Lehrerblatt!B148,\"Richtig\",\"Falsch\"))","v":""}]
[{"$f":"IF(ISBLANK(Lehrerblatt!A149),\"\",Lehrerblatt!A149)","v":"8 * 18"},null,{"$f":"IF(ISBLANK(B154),\"\",IF(B154=Lehrerblatt!B149,\"Richtig\",\"Falsch\"))","v":""}]
[{"$f":"IF(ISBLANK(Lehrerblatt!A150),\"\",Lehrerblatt!A150)","v":"2 hoch 5"},null,{"$f":"IF(ISBLANK(B155),\"\",IF(B155=Lehrerblatt!B150,\"Richtig\",\"Falsch\"))","v":""}]
[{"$f":"IF(ISBLANK(Lehrerblatt!A151),\"\",Lehrerblatt!A151)","v":"2 * 25"},null,{"$f":"IF(ISBLANK(B156),\"\",IF(B156=Lehrerblatt!B151,\"Richtig\",\"Falsch\"))","v":""}]
[{"$f":"IF(ISBLANK(Lehrerblatt!A152),\"\",Lehrerblatt!A152)","v":"4 * 29"},null,{"$f":"IF(ISBLANK(B157),\"\",IF(B157=Lehrerblatt!B152,\"Richtig\",\"Falsch\"))","v":""}]
[{"$f":"IF(ISBLANK(Lehrerblatt!A153),\"\",Lehrerblatt!A153)","v":"10 * 22"},null,{"$f":"IF(ISBLANK(B158),\"\",IF(B158=Lehrerblatt!B153,\"Richtig\",\"Falsch\"))","v":""}]
[{"$f":"IF(ISBLANK(Lehrerblatt!A154),\"\",Lehrerblatt!A154)","v":"4 * 19"},null,{"$f":"IF(ISBLANK(B159),\"\",IF(B159=Lehrerblatt!B154,\"Richtig\",\"Falsch\"))","v":""}]
[{"$f":"IF(ISBLANK(Lehrerblatt!A155),\"\",Lehrerblatt!A155)","v":"6 * 17"},null,{"$f":"IF(ISBLANK(B160),\"\",IF(B160=Lehrerblatt!B155,\"Richtig\",\"Falsch\"))","v":""}]
[{"$f":"IF(ISBLANK(Lehrerblatt!A156),\"\",Lehrerblatt!A156)","v":"10 * 12"},null,{"$f":"IF(ISBLANK(B161),\"\",IF(B161=Lehrerblatt!B156,\"Richtig\",\"Falsch\"))","v":""}]
[{"$f":"IF(ISBLANK(Lehrerblatt!A157),\"\",Lehrerblatt!A157)","v":"2 * 17"},null,{"$f":"IF(ISBLANK(B162),\"\",IF(B162=Lehrerblatt!B157,\"Richtig\",\"Falsch\"))","v":""}]
[{"$f":"IF(ISBLANK(Lehrerblatt!A158),\"\",Lehrerblatt!A158)","v":"10 * 13"},null,{"$f":"IF(ISBLANK(B163),\"\",IF(B163=Lehrerblatt!B158,\"Richtig\",\"Falsch\"))","v":""}]
[{"$f":"IF(ISBLANK(Lehrerblatt!A159),\"\",Lehrerblatt!A159)","v":"8 * 16"},null,{"$f":"IF(ISBLANK(B164),\"\",IF(B164=Lehrerblatt!B159,\"Richtig\",\"Falsch\"))","v":""}]
[{"$f":"IF(ISBLANK(Lehrerblatt!A160),\"\",Lehrerblatt!A160)","v":"31 im Quadrat"},null,{"$f":"IF(ISBLANK(B165),\"\",IF(B165=Lehrerblatt!B160,\"Richtig\",\"Falsch\"))","v":""}]
[{"$f":"IF(ISBLANK(Lehrerblatt!A161),\"\",Lehrerblatt!A161)","v":"9 * 22"},null,{"$f":"IF(ISBLANK(B166),\"\",IF(B166=Lehrerblatt!B161,\"Richtig\",\"Falsch\"))","v":""}]
[{"$f":"IF(ISBLANK(Lehrerblatt!A162),\"\",Lehrerblatt!A162)","v":"3 hoch 4"},null,{"$f":"IF(ISBLANK(B167),\"\",IF(B167=Lehrerblatt!B162,\"Richtig\",\"Falsch\"))","v":""}]
[{"$f":"IF(ISBLANK(Lehrerblatt!A163),\"\",Lehrerblatt!A163)","v":"10 * 24"},null,{"$f":"IF(ISBLANK(B168),\"\",IF(B168=Lehrerblatt!B163,\"Richtig\",\"Falsch\"))","v":""}]
[{"$f":"IF(ISBLANK(Lehrerblatt!A164),\"\",Lehrerblatt!A164)","v":"3 * 20"},null,{"$f":"IF(ISBLANK(B169),\"\",IF(B169=Lehrerblatt!B164,\"Richtig\",\"Falsch\"))","v":""}]
[{"$f":"IF(ISBLANK(Lehrerblatt!A165),\"\",Lehrerblatt!A165)","v":"9 * 24"},null,{"$f":"IF(ISBLANK(B170),\"\",IF(B170=Lehrerblatt!B165,\"Richtig\",\"Falsch\"))","v":""}]
[{"$f":"IF(ISBLANK(Lehrerblatt!A166),\"\",Lehrerblatt!A166)","v":"4 * 25"},null,{"$f":"IF(ISBLANK(B171),\"\",IF(B171=Lehrerblatt!B166,\"Richtig\",\"Falsch\"))","v":""}]
[{"$f":"IF(ISBLANK(Lehrerblatt!A167),\"\",Lehrerblatt!A167)","v":"6 * 12"},null,{"$f":"IF(ISBLANK(B172),\"\",IF(B172=Lehrerblatt!B167,\"Richtig\",\"Falsch\"))","v":""}]
[{"$f":"IF(ISBLANK(Lehrerblatt!A168),\"\",Lehrerblatt!A168)","v":"7 hoch 3"},null,{"$f":"IF(ISBLANK(B173),\"\",IF(B173=Lehrerblatt!B168,\"Richtig\",\"Falsch\"))","v":""}]
[{"$f":"IF(ISBLANK(Lehrerblatt!A169),\"\",Lehrerblatt!A169)","v":"2 * 11"},null,{"$f":"IF(ISBLANK(B174),\"\",IF(B174=Lehrerblatt!B169,\"Richtig\",\"Falsch\"))","v":""}]
[{"$f":"IF(ISBLANK(Lehrerblatt!A170),\"\",Lehrerblatt!A170)","v":"5 * 88"},null,{"$f":"IF(ISBLANK(B175),\"\",IF(B175=Lehrerblatt!B170,\"Richtig\",\"Falsch\"))","v":""}]
[{"$f":"IF(ISBLANK(Lehrerblatt!A171),\"\",Lehrerblatt!A171)","v":"3 * 13"},null,{"$f":"IF(ISBLANK(B176),\"\",IF(B176=Lehrerblatt!B171,\"Richtig\",\"Falsch\"))","v":""}]
[{"$f":"IF(ISBLANK(Lehrerblatt!A172),\"\",Lehrerblatt!A172)","v":"11 * 37"},null,{"$f":"IF(ISBLANK(B177),\"\",IF(B177=Lehrerblatt!B172,\"Richtig\",\"Falsch\"))","v":""}]
[{"$f":"IF(ISBLANK(Lehrerblatt!A173),\"\",Lehrerblatt!A173)","v":"6 * 25"},null,{"$f":"IF(ISBLANK(B178),\"\",IF(B178=Lehrerblatt!B173,\"Richtig\",\"Falsch\"))","v":""}]
[{"$f":"IF(ISBLANK(Lehrerblatt!A174),\"\",Lehrerblatt!A174)","v":"7 * 13"},null,{"$f":"IF(ISBLANK(B179),\"\",IF(B179=Lehrerblatt!B174,\"Richtig\",\"Falsch\"))","v":""}]
[{"$f":"IF(ISBLANK(Lehrerblatt!A175),\"\",Lehrerblatt!A175)","v":"2 * 16"},null,{"$f":"IF(ISBLANK(B180),\"\",IF(B180=Lehrerblatt!B175,\"Richtig\",\"Falsch\"))","v":""}]
[{"$f":"IF(ISBLANK(Lehrerblatt!A176),\"\",Lehrerblatt!A176)","v":"9 hoch 3"},null,{"$f":"IF(ISBLANK(B181),\"\",IF(B181=Lehrerblatt!B176,\"Richtig\",\"Falsch\"))","v":""}]
[{"$f":"IF(ISBLANK(Lehrerblatt!A177),\"\",Lehrerblatt!A177)","v":"6 * 18"},null,{"$f":"IF(ISBLANK(B182),\"\",IF(B182=Lehrerblatt!B177,\"Richtig\",\"Falsch\"))","v":""}]
[{"$f":"IF(ISBLANK(Lehrerblatt!A178),\"\",Lehrerblatt!A178)","v":"9 * 16"},null,{"$f":"IF(ISBLANK(B183),\"\",IF(B183=Lehrerblatt!B178,\"Richtig\",\"Falsch\"))","v":""}]
[{"$f":"IF(ISBLANK(Lehrerblatt!A179),\"\",Lehrerblatt!A179)","v":"3 * 11"},null,{"$f":"IF(ISBLANK(B184),\"\",IF(B184=Lehrerblatt!B179,\"Richtig\",\"Falsch\"))","v":""}]
[{"$f":"IF(ISBLANK(Lehrerblatt!A180),\"\",Lehrerblatt!A180)","v":"4 * 38"},null,{"$f":"IF(ISBLANK(B185),\"\",IF(B185=Lehrerblatt!B180,\"Richtig\",\"Falsch\"))","v":""}]
[{"$f":"IF(ISBLANK(Lehrerblatt!A181),\"\",Lehrerblatt!A181)","v":"11 * 57"},null,{"$f":"IF(ISBLANK(B186),\"\",IF(B186=Lehrerblatt!B181,\"Richtig\",\"Falsch\"))","v":""}]
[{"$f":"IF(ISBLANK(Lehrerblatt!A182),\"\",Lehrerblatt!A182)","v":"8 * 23"},null,{"$f":"IF(ISBLANK(B187),\"\",IF(B187=Lehrerblatt!B182,\"Richtig\",\"Falsch\"))","v":""}]
[{"$f":"IF(ISBLANK(Lehrerblatt!A183),\"\",Lehrerblatt!A183)","v":"4 * 27"},null,{"$f":"IF(ISBLANK(B188),\"\",IF(B188=Lehrerblatt!B183,\"Richtig\",\"Falsch\"))","v":""}]
[{"$f":"IF(ISBLANK(Lehrerblatt!A184),\"\",Lehrerblatt!A184)","v":"8 * 46"},null,{"$f":"IF(ISBLANK(B189),\"\",IF(B189=Lehrerblatt!B184,\"Richtig\",\"Falsch\"))","v":""}]
[{"$f":"IF(ISBLANK(Lehrerblatt!A185),\"\",Lehrerblatt!A185)","v":"7 * 19"},null,{"$f":"IF(ISBLANK(B190),\"\",IF(B190=Lehrerblatt!B185,\"Richtig\",\"Falsch\"))","v":""}]
[{"$f":"IF(ISBLANK(Lehrerblatt!A186),\"\",Lehrerblatt!A186)","v":"11 * 14"},null,{"$f":"IF(ISBLANK(B191),\"\",IF(B191=Lehrerblatt!B186,\"Richtig\",\"Falsch\"))","v":""}]
[{"$f":"IF(ISBLANK(Lehrerblatt!A187),\"\",Lehrerblatt!A187)","v":"50 im Quadrat"},null,{"$f":"IF(ISBLANK(B192),\"\",IF(B192=Lehrerblatt!B187,\"Richtig\",\"Falsch\"))","v":""}]
[{"$f":"IF(ISBLANK(Lehrerblatt!A188),\"\",Lehrerblatt!A188)","v":"8 * 12"},null,{"$f":"IF(ISBLANK(B193),\"\",IF(B193=Lehrerblatt!B188,\"Richtig\",\"Falsch\"))","v":""}]
[{"$f":"IF(ISBLANK(Lehrerblatt!A189),\"\",Lehrerblatt!A189)","v":"2 * 24"},null,{"$f":"IF(ISBLANK(B194),\"\",IF(B194=Lehrerblatt!B189,\"Richtig\",\"Falsch\"))","v":""}]
[{"$f":"IF(ISBLANK(Lehrerblatt!A190),\"\",Lehrerblatt!A190)","v":"6 * 11"},null,{"$f":"IF(ISBLANK(B195),\"\",IF(B195=Lehrerblatt!B190,\"Richtig\",\"Falsch\"))","v":""}]
[{"$f":"IF(ISBLANK(Lehrerblatt!A191),\"\",Lehrerblatt!A191)","v":"5 hoch 3"},null,{"$f":"IF(ISBLANK(B196),\"\",IF(B196=Lehrerblatt!B191,\"Richtig\",\"Falsch\"))","v":""}]
[{"$f":"IF(ISBLANK(Lehrerblatt!A192),\"\",Lehrerblatt!A192)","v":"5 * 12"},null,{"$f":"IF(ISBLANK(B197),\"\",IF(B197=Lehrerblatt!B192,\"Richtig\",\"Falsch\"))","v":""}]
[{"$f":"IF(ISBLANK(Lehrerblatt!A193),\"\",Lehrerblatt!A193)","v":"2 * 19"},null,{"$f":"IF(ISBLANK(B198),\"\",IF(B198=Lehrerblatt!B193,\"Richtig\",\"Falsch\"))","v":""}]
[{"$f":"IF(ISBLANK(Lehrerblatt!A194),\"\",Lehrerblatt!A194)","v":""},null,{"$f":"IF(ISBLANK(B199),\"\",IF(B199=Lehrerblatt!B194,\"Richtig\",\"Falsch\"))","v":""}]
[{"$f":"IF(ISBLANK(Lehrerblatt!A195),\"\",Lehrerblatt!A195)","v":""},null,{"$f":"IF(ISBLANK(B200),\"\",IF(B200=Lehrerblatt!B195,\"Richtig\",\"Falsch\"))","v":""}]
[{"$f":"IF(ISBLANK(Lehrerblatt!A196),\"\",Lehrerblatt!A196)","v":""},null,{"$f":"IF(ISBLANK(B201),\"\",IF(B201=Lehrerblatt!B196,\"Richtig\",\"Falsch\"))","v":""}]
[{"$f":"IF(ISBLANK(Lehrerblatt!A197),\"\",Lehrerblatt!A197)","v":""},null,{"$f":"IF(ISBLANK(B202),\"\",IF(B202=Lehrerblatt!B197,\"Richtig\",\"Falsch\"))","v":""}]
[{"$f":"IF(ISBLANK(Lehrerblatt!A198),\"\",Lehrerblatt!A198)","v":""},null,{"$f":"IF(ISBLANK(B203),\"\",IF(B203=Lehrerblatt!B198,\"Richtig\",\"Falsch\"))","v":""}]
[{"$f":"IF(ISBLANK(Lehrerblatt!A199),\"\",Lehrerblatt!A199)","v":""},null,{"$f":"IF(ISBLANK(B204),\"\",IF(B204=Lehrerblatt!B199,\"Richtig\",\"Falsch\"))","v":""}]
[{"$f":"IF(ISBLANK(Lehrerblatt!A200),\"\",Lehrerblatt!A200)","v":""},null,{"$f":"IF(ISBLANK(B205),\"\",IF(B205=Lehrerblatt!B200,\"Richtig\",\"Falsch\"))","v":""}]
[{"$f":"IF(ISBLANK(Lehrerblatt!A201),\"\",Lehrerblatt!A201)","v":""},null,{"$f":"IF(ISBLANK(B206),\"\",IF(B206=Lehrerblatt!B201,\"Richtig\",\"Falsch\"))","v":""}]
[{"$f":"IF(ISBLANK(Lehrerblatt!A202),\"\",Lehrerblatt!A202)","v":""},null,{"$f":"IF(ISBLANK(B207),\"\",IF(B207=Lehrerblatt!B202,\"Richtig\",\"Falsch\"))","v":""}]
[{"$f":"IF(ISBLANK(Lehrerblatt!A203),\"\",Lehrerblatt!A203)","v":""},null,{"$f":"IF(ISBLANK(B208),\"\",IF(B208=Lehrerblatt!B203,\"Richtig\",\"Falsch\"))","v":""}]
[{"$f":"IF(ISBLANK(Lehrerblatt!A204),\"\",Lehrerblatt!A204)","v":""},null,{"$f":"IF(ISBLANK(B209),\"\",IF(B209=Lehrerblatt!B204,\"Richtig\",\"Falsch\"))","v":""}]
[{"$f":"IF(ISBLANK(Lehrerblatt!A205),\"\",Lehrerblatt!A205)","v":""},null,{"$f":"IF(ISBLANK(B210),\"\",IF(B210=Lehrerblatt!B205,\"Richtig\",\"Falsch\"))","v":""}]
[{"$f":"IF(ISBLANK(Lehrerblatt!A206),\"\",Lehrerblatt!A206)","v":""},null,{"$f":"IF(ISBLANK(B211),\"\",IF(B211=Lehrerblatt!B206,\"Richtig\",\"Falsch\"))","v":""}]
[{"$f":"IF(ISBLANK(Lehrerblatt!A207),\"\",Lehrerblatt!A207)","v":""},null,{"$f":"IF(ISBLANK(B212),\"\",IF(B212=Lehrerblatt!B207,\"Richtig\",\"Falsch\"))","v":""}]
[{"$f":"IF(ISBLANK(Lehrerblatt!A208),\"\",Lehrerblatt!A208)","v":""},null,{"$f":"IF(ISBLANK(B213),\"\",IF(B213=Lehrerblatt!B208,\"Richtig\",\"Falsch\"))","v":""}]
[{"$f":"IF(ISBLANK(Lehrerblatt!A209),\"\",Lehrerblatt!A209)","v":""},null,{"$f":"IF(ISBLANK(B214),\"\",IF(B214=Lehrerblatt!B209,\"Richtig\",\"Falsch\"))","v":""}]
[{"$f":"IF(ISBLANK(Lehrerblatt!A210),\"\",Lehrerblatt!A210)","v":""},null,{"$f":"IF(ISBLANK(B215),\"\",IF(B215=Lehrerblatt!B210,\"Richtig\",\"Falsch\"))","v":""}]
[{"$f":"IF(ISBLANK(Lehrerblatt!A211),\"\",Lehrerblatt!A211)","v":""},null,{"$f":"IF(ISBLANK(B216),\"\",IF(B216=Lehrerblatt!B211,\"Richtig\",\"Falsch\"))","v":""}]
[{"$f":"IF(ISBLANK(Lehrerblatt!A212),\"\",Lehrerblatt!A212)","v":""},null,{"$f":"IF(ISBLANK(B217),\"\",IF(B217=Lehrerblatt!B212,\"Richtig\",\"Falsch\"))","v":""}]
[{"$f":"IF(ISBLANK(Lehrerblatt!A213),\"\",Lehrerblatt!A213)","v":""},null,{"$f":"IF(ISBLANK(B218),\"\",IF(B218=Lehrerblatt!B213,\"Richtig\",\"Falsch\"))","v":""}]
[{"$f":"IF(ISBLANK(Lehrerblatt!A214),\"\",Lehrerblatt!A214)","v":""},null,{"$f":"IF(ISBLANK(B219),\"\",IF(B219=Lehrerblatt!B214,\"Richtig\",\"Falsch\"))","v":""}]
[{"$f":"IF(ISBLANK(Lehrerblatt!A215),\"\",Lehrerblatt!A215)","v":""},null,{"$f":"IF(ISBLANK(B220),\"\",IF(B220=Lehrerblatt!B215,\"Richtig\",\"Falsch\"))","v":""}]
[{"$f":"IF(ISBLANK(Lehrerblatt!A216),\"\",Lehrerblatt!A216)","v":""},null,{"$f":"IF(ISBLANK(B221),\"\",IF(B221=Lehrerblatt!B216,\"Richtig\",\"Falsch\"))","v":""}]
[{"$f":"IF(ISBLANK(Lehrerblatt!A217),\"\",Lehrerblatt!A217)","v":""},null,{"$f":"IF(ISBLANK(B222),\"\",IF(B222=Lehrerblatt!B217,\"Richtig\",\"Falsch\"))","v":""}]
[{"$f":"IF(ISBLANK(Lehrerblatt!A218),\"\",Lehrerblatt!A218)","v":""},null,{"$f":"IF(ISBLANK(B223),\"\",IF(B223=Lehrerblatt!B218,\"Richtig\",\"Falsch\"))","v":""}]
[{"$f":"IF(ISBLANK(Lehrerblatt!A219),\"\",Lehrerblatt!A219)","v":""},null,{"$f":"IF(ISBLANK(B224),\"\",IF(B224=Lehrerblatt!B219,\"Richtig\",\"Falsch\"))","v":""}]
[{"$f":"IF(ISBLANK(Lehrerblatt!A220),\"\",Lehrerblatt!A220)","v":""},null,{"$f":"IF(ISBLANK(B225),\"\",IF(B225=Lehrerblatt!B220,\"Richtig\",\"Falsch\"))","v":""}]
[{"$f":"IF(ISBLANK(Lehrerblatt!A221),\"\",Lehrerblatt!A221)","v":""},null,{"$f":"IF(ISBLANK(B226),\"\",IF(B226=Lehrerblatt!B221,\"Richtig\",\"Falsch\"))","v":""}]
[{"$f":"IF(ISBLANK(Lehrerblatt!A222),\"\",Lehrerblatt!A222)","v":""},null,{"$f":"IF(ISBLANK(B227),\"\",IF(B227=Lehrerblatt!B222,\"Richtig\",\"Falsch\"))","v":""}]
[{"$f":"IF(ISBLANK(Lehrerblatt!A223),\"\",Lehrerblatt!A223)","v":""},null,{"$f":"IF(ISBLANK(B228),\"\",IF(B228=Lehrerblatt!B223,\"Richtig\",\"Falsch\"))","v":""}]
[{"$f":"IF(ISBLANK(Lehrerblatt!A224),\"\",Lehrerblatt!A224)","v":""},null,{"$f":"IF(ISBLANK(B229),\"\",IF(B229=Lehrerblatt!B224,\"Richtig\",\"Falsch\"))","v":""}]
[{"$f":"IF(ISBLANK(Lehrerblatt!A225),\"\",Lehrerblatt!A225)","v":""},null,{"$f":"IF(ISBLANK(B230),\"\",IF(B230=Lehrerblatt!B225,\"Richtig\",\"Falsch\"))","v":""}]
[{"$f":"IF(ISBLANK(Lehrerblatt!A226),\"\",Lehrerblatt!A226)","v":""},null,{"$f":"IF(ISBLANK(B231),\"\",IF(B231=Lehrerblatt!B226,\"Richtig\",\"Falsch\"))","v":""}]
[{"$f":"IF(ISBLANK(Lehrerblatt!A227),\"\",Lehrerblatt!A227)","v":""},null,{"$f":"IF(ISBLANK(B232),\"\",IF(B232=Lehrerblatt!B227,\"Richtig\",\"Falsch\"))","v":""}]
[{"$f":"IF(ISBLANK(Lehrerblatt!A228),\"\",Lehrerblatt!A228)","v":""},null,{"$f":"IF(ISBLANK(B233),\"\",IF(B233=Lehrerblatt!B228,\"Richtig\",\"Falsch\"))","v":""}]
[{"$f":"IF(ISBLANK(Lehrerblatt!A229),\"\",Lehrerblatt!A229)","v":""},null,{"$f":"IF(ISBLANK(B234),\"\",IF(B234=Lehrerblatt!B229,\"Richtig\",\"Falsch\"))","v":""}]
[{"$f":"IF(ISBLANK(Lehrerblatt!A230),\"\",Lehrerblatt!A230)","v":""},null,{"$f":"IF(ISBLANK(B235),\"\",IF(B235=Lehrerblatt!B230,\"Richtig\",\"Falsch\"))","v":""}]
[{"$f":"IF(ISBLANK(Lehrerblatt!A231),\"\",Lehrerblatt!A231)","v":""},null,{"$f":"IF(ISBLANK(B236),\"\",IF(B236=Lehrerblatt!B231,\"Richtig\",\"Falsch\"))","v":""}]
[{"$f":"IF(ISBLANK(Lehrerblatt!A232),\"\",Lehrerblatt!A232)","v":""},null,{"$f":"IF(ISBLANK(B237),\"\",IF(B237=Lehrerblatt!B232,\"Richtig\",\"Falsch\"))","v":""}]
[{"$f":"IF(ISBLANK(Lehrerblatt!A233),\"\",Lehrerblatt!A233)","v":""},null,{"$f":"IF(ISBLANK(B238),\"\",IF(B238=Lehrerblatt!B233,\"Richtig\",\"Falsch\"))","v":""}]
[{"$f":"IF(ISBLANK(Lehrerblatt!A234),\"\",Lehrerblatt!A234)","v":""},null,{"$f":"IF(ISBLANK(B239),\"\",IF(B239=Lehrerblatt!B234,\"Richtig\",\"Falsch\"))","v":""}]
[{"$f":"IF(ISBLANK(Lehrerblatt!A235),\"\",Lehrerblatt!A235)","v":""},null,{"$f":"IF(ISBLANK(B240),\"\",IF(B240=Lehrerblatt!B235,\"Richtig\",\"Falsch\"))","v":""}]
[{"$f":"IF(ISBLANK(Lehrerblatt!A236),\"\",Lehrerblatt!A236)","v":""},null,{"$f":"IF(ISBLANK(B241),\"\",IF(B241=Lehrerblatt!B236,\"Richtig\",\"Falsch\"))","v":""}]
[{"$f":"IF(ISBLANK(Lehrerblatt!A237),\"\",Lehrerblatt!A237)","v":""},null,{"$f":"IF(ISBLANK(B242),\"\",IF(B242=Lehrerblatt!B237,\"Richtig\",\"Falsch\"))","v":""}]
[{"$f":"IF(ISBLANK(Lehrerblatt!A238),\"\",Lehrerblatt!A238)","v":""},null,{"$f":"IF(ISBLANK(B243),\"\",IF(B243=Lehrerblatt!B238,\"Richtig\",\"Falsch\"))","v":""}]
[{"$f":"IF(ISBLANK(Lehrerblatt!A239),\"\",Lehrerblatt!A239)","v":""},null,{"$f":"IF(ISBLANK(B244),\"\",IF(B244=Lehrerblatt!B239,\"Richtig\",\"Falsch\"))","v":""}]
[{"$f":"IF(ISBLANK(Lehrerblatt!A240),\"\",Lehrerblatt!A240)","v":""},null,{"$f":"IF(ISBLANK(B245),\"\",IF(B245=Lehrerblatt!B240,\"Richtig\",\"Falsch\"))","v":""}]
[{"$f":"IF(ISBLANK(Lehrerblatt!A241),\"\",Lehrerblatt!A241)","v":""},null,{"$f":"IF(ISBLANK(B246),\"\",IF(B246=Lehrerblatt!B241,\"Richtig\",\"Falsch\"))","v":""}]
[{"$f":"IF(ISBLANK(Lehrerblatt!A242),\"\",Lehrerblatt!A242)","v":""},null,{"$f":"IF(ISBLANK(B247),\"\",IF(B247=Lehrerblatt!B242,\"Richtig\",\"Falsch\"))","v":""}]
[{"$f":"IF(ISBLANK(Lehrerblatt!A243),\"\",Lehrerblatt!A243)","v":""},null,{"$f":"IF(ISBLANK(B248),\"\",IF(B248=Lehrerblatt!B243,\"Richtig\",\"Falsch\"))","v":""}]
[{"$f":"IF(ISBLANK(Lehrerblatt!A244),\"\",Lehrerblatt!A244)","v":""},null,{"$f":"IF(ISBLANK(B249),\"\",IF(B249=Lehrerblatt!B244,\"Richtig\",\"Falsch\"))","v":""}]
[{"$f":"IF(ISBLANK(Lehrerblatt!A245),\"\",Lehrerblatt!A245)","v":""},null,{"$f":"IF(ISBLANK(B250),\"\",IF(B250=Lehrerblatt!B245,\"Richtig\",\"Falsch\"))","v":""}]
[{"$f":"IF(ISBLANK(Lehrerblatt!A246),\"\",Lehrerblatt!A246)","v":""},null,{"$f":"IF(ISBLANK(B251),\"\",IF(B251=Lehrerblatt!B246,\"Richtig\",\"Falsch\"))","v":""}]
[{"$f":"IF(ISBLANK(Lehrerblatt!A247),\"\",Lehrerblatt!A247)","v":""},null,{"$f":"IF(ISBLANK(B252),\"\",IF(B252=Lehrerblatt!B247,\"Richtig\",\"Falsch\"))","v":""}]
[{"$f":"IF(ISBLANK(Lehrerblatt!A248),\"\",Lehrerblatt!A248)","v":""},null,{"$f":"IF(ISBLANK(B253),\"\",IF(B253=Lehrerblatt!B248,\"Richtig\",\"Falsch\"))","v":""}]
[{"$f":"IF(ISBLANK(Lehrerblatt!A249),\"\",Lehrerblatt!A249)","v":""},null,{"$f":"IF(ISBLANK(B254),\"\",IF(B254=Lehrerblatt!B249,\"Richtig\",\"Falsch\"))","v":""}]
[{"$f":"IF(ISBLANK(Lehrerblatt!A250),\"\",Lehrerblatt!A250)","v":""},null,{"$f":"IF(ISBLANK(B255),\"\",IF(B255=Lehrerblatt!B250,\"Richtig\",\"Falsch\"))","v":""}]
[{"$f":"IF(ISBLANK(Lehrerblatt!A251),\"\",Lehrerblatt!A251)","v":""},null,{"$f":"IF(ISBLANK(B256),\"\",IF(B256=Lehrerblatt!B251,\"Richtig\",\"Falsch\"))","v":""}]
[{"$f":"IF(ISBLANK(Lehrerblatt!A252),\"\",Lehrerblatt!A252)","v":""},null,{"$f":"IF(ISBLANK(B257),\"\",IF(B257=Lehrerblatt!B252,\"Richtig\",\"Falsch\"))","v":""}]
[{"$f":"IF(ISBLANK(Lehrerblatt!A253),\"\",Lehrerblatt!A253)","v":""},null,{"$f":"IF(ISBLANK(B258),\"\",IF(B258=Lehrerblatt!B253,\"Richtig\",\"Falsch\"))","v":""}]
[{"$f":"IF(ISBLANK(Lehrerblatt!A254),\"\",Lehrerblatt!A254)","v":""},null,{"$f":"IF(ISBLANK(B259),\"\",IF(B259=Lehrerblatt!B254,\"Richtig\",\"Falsch\"))","v":""}]
[{"$f":"IF(ISBLANK(Lehrerblatt!A255),\"\",Lehrerblatt!A255)","v":""},null,{"$f":"IF(ISBLANK(B260),\"\",IF(B260=Lehrerblatt!B255,\"Richtig\",\"Falsch\"))","v":""}]
[{"$f":"IF(ISBLANK(Lehrerblatt!A256),\"\",Lehrerblatt!A256)","v":""},null,{"$f":"IF(ISBLANK(B261),\"\",IF(B261=Lehrerblatt!B256,\"Richtig\",\"Falsch\"))","v":""}]
[{"$f":"IF(ISBLANK(Lehrerblatt!A257),\"\",Lehrerblatt!A257)","v":""},null,{"$f":"IF(ISBLANK(B262),\"\",IF(B262=Lehrerblatt!B257,\"Richtig\",\"Falsch\"))","v":""}]
[{"$f":"IF(ISBLANK(Lehrerblatt!A258),\"\",Lehrerblatt!A258)","v":""},null,{"$f":"IF(ISBLANK(B263),\"\",IF(B263=Lehrerblatt!B258,\"Richtig\",\"Falsch\"))","v":""}]
[{"$f":"IF(ISBLANK(Lehrerblatt!A259),\"\",Lehrerblatt!A259)","v":""},null,{"$f":"IF(ISBLANK(B264),\"\",IF(B264=Lehrerblatt!B259,\"Richtig\",\"Falsch\"))","v":""}]
[{"$f":"IF(ISBLANK(Lehrerblatt!A260),\"\",Lehrerblatt!A260)","v":""},null,{"$f":"IF(ISBLANK(B265),\"\",IF(B265=Lehrerblatt!B260,\"Richtig\",\"Falsch\"))","v":""}]
[{"$f":"IF(ISBLANK(Lehrerblatt!A261),\"\",Lehrerblatt!A261)","v":""},null,{"$f":"IF(ISBLANK(B266),\"\",IF(B266=Lehrerblatt!B261,\"Richtig\",\"Falsch\"))","v":""}]
[{"$f":"IF(ISBLANK(Lehrerblatt!A262),\"\",Lehrerblatt!A262)","v":""},null,{"$f":"IF(ISBLANK(B267),\"\",IF(B267=Lehrerblatt!B262,\"Richtig\",\"Falsch\"))","v":""}]
[{"$f":"IF(ISBLANK(Lehrerblatt!A263),\"\",Lehrerblatt!A263)","v":""},null,{"$f":"IF(ISBLANK(B268),\"\",IF(B268=Lehrerblatt!B263,\"Richtig\",\"Falsch\"))","v":""}]
[{"$f":"IF(ISBLANK(Lehrerblatt!A264),\"\",Lehrerblatt!A264)","v":""},null,{"$f":"IF(ISBLANK(B269),\"\",IF(B269=Lehrerblatt!B264,\"Richtig\",\"Falsch\"))","v":""}]
[{"$f":"IF(ISBLANK(Lehrerblatt!A265),\"\",Lehrerblatt!A265)","v":""},null,{"$f":"IF(ISBLANK(B270),\"\",IF(B270=Lehrerblatt!B265,\"Richtig\",\"Falsch\"))","v":""}]
[{"$f":"IF(ISBLANK(Lehrerblatt!A266),\"\",Lehrerblatt!A266)","v":""},null,{"$f":"IF(ISBLANK(B271),\"\",IF(B271=Lehrerblatt!B266,\"Richtig\",\"Falsch\"))","v":""}]
[{"$f":"IF(ISBLANK(Lehrerblatt!A267),\"\",Lehrerblatt!A267)","v":""},null,{"$f":"IF(ISBLANK(B272),\"\",IF(B272=Lehrerblatt!B267,\"Richtig\",\"Falsch\"))","v":""}]
[{"$f":"IF(ISBLANK(Lehrerblatt!A268),\"\",Lehrerblatt!A268)","v":""},null,{"$f":"IF(ISBLANK(B273),\"\",IF(B273=Lehrerblatt!B268,\"Richtig\",\"Falsch\"))","v":""}]
[{"$f":"IF(ISBLANK(Lehrerblatt!A269),\"\",Lehrerblatt!A269)","v":""},null,{"$f":"IF(ISBLANK(B274),\"\",IF(B274=Lehrerblatt!B269,\"Richtig\",\"Falsch\"))","v":""}]
[{"$f":"IF(ISBLANK(Lehrerblatt!A270),\"\",Lehrerblatt!A270)","v":""},null,{"$f":"IF(ISBLANK(B275),\"\",IF(B275=Lehrerblatt!B270,\"Richtig\",\"Falsch\"))","v":""}]
[{"$f":"IF(ISBLANK(Lehrerblatt!A271),\"\",Lehrerblatt!A271)","v":""},null,{"$f":"IF(ISBLANK(B276),\"\",IF(B276=Lehrerblatt!B271,\"Richtig\",\"Falsch\"))","v":""}]
[{"$f":"IF(ISBLANK(Lehrerblatt!A272),\"\",Lehrerblatt!A272)","v":""},null,{"$f":"IF(ISBLANK(B277),\"\",IF(B277=Lehrerblatt!B272,\"Richtig\",\"Falsch\"))","v":""}]
[{"$f":"IF(ISBLANK(Lehrerblatt!A273),\"\",Lehrerblatt!A273)","v":""},null,{"$f":"IF(ISBLANK(B278),\"\",IF(B278=Lehrerblatt!B273,\"Richtig\",\"Falsch\"))","v":""}]
[{"$f":"IF(ISBLANK(Lehrerblatt!A274),\"\",Lehrerblatt!A274)","v":""},null,{"$f":"IF(ISBLANK(B279),\"\",IF(B279=Lehrerblatt!B274,\"Richtig\",\"Falsch\"))","v":""}]
[{"$f":"IF(ISBLANK(Lehrerblatt!A275),\"\",Lehrerblatt!A275)","v":""},null,{"$f":"IF(ISBLANK(B280),\"\",IF(B280=Lehrerblatt!B275,\"Richtig\",\"Falsch\"))","v":""}]
[{"$f":"IF(ISBLANK(Lehrerblatt!A276),\"\",Lehrerblatt!A276)","v":""},null,{"$f":"IF(ISBLANK(B281),\"\",IF(B281=Lehrerblatt!B276,\"Richtig\",\"Falsch\"))","v":""}]
[{"$f":"IF(ISBLANK(Lehrerblatt!A277),\"\",Lehrerblatt!A277)","v":""},null,{"$f":"IF(ISBLANK(B282),\"\",IF(B282=Lehrerblatt!B277,\"Richtig\",\"Falsch\"))","v":""}]
[{"$f":"IF(ISBLANK(Lehrerblatt!A278),\"\",Lehrerblatt!A278)","v":""},null,{"$f":"IF(ISBLANK(B283),\"\",IF(B283=Lehrerblatt!B278,\"Richtig\",\"Falsch\"))","v":""}]
[{"$f":"IF(ISBLANK(Lehrerblatt!A279),\"\",Lehrerblatt!A279)","v":""},null,{"$f":"IF(ISBLANK(B284),\"\",IF(B284=Lehrerblatt!B279,\"Richtig\",\"Falsch\"))","v":""}]
[{"$f":"IF(ISBLANK(Lehrerblatt!A280),\"\",Lehrerblatt!A280)","v":""},null,{"$f":"IF(ISBLANK(B285),\"\",IF(B285=Lehrerblatt!B280,\"Richtig\",\"Falsch\"))","v":""}]
[{"$f":"IF(ISBLANK(Lehrerblatt!A281),\"\",Lehrerblatt!A281)","v":""},null,{"$f":"IF(ISBLANK(B286),\"\",IF(B286=Lehrerblatt!B281,\"Richtig\",\"Falsch\"))","v":""}]
[{"$f":"IF(ISBLANK(Lehrerblatt!A282),\"\",Lehrerblatt!A282)","v":""},null,{"$f":"IF(ISBLANK(B287),\"\",IF(B287=Lehrerblatt!B282,\"Richtig\",\"Falsch\"))","v":""}]
[{"$f":"IF(ISBLANK(Lehrerblatt!A283),\"\",Lehrerblatt!A283)","v":""},null,{"$f":"IF(ISBLANK(B288),\"\",IF(B288=Lehrerblatt!B283,\"Richtig\",\"Falsch\"))","v":""}]
[{"$f":"IF(ISBLANK(Lehrerblatt!A284),\"\",Lehrerblatt!A284)","v":""},null,{"$f":"IF(ISBLANK(B289),\"\",IF(B289=Lehrerblatt!B284,\"Richtig\",\"Falsch\"))","v":""}]
[{"$f":"IF(ISBLANK(Lehrerblatt!A285),\"\",Lehrerblatt!A285)","v":""},null,{"$f":"IF(ISBLANK(B290),\"\",IF(B290=Lehrerblatt!B285,\"Richtig\",\"Falsch\"))","v":""}]
[null,null,{"$f":"IF(ISBLANK(B291),\"\",IF(B291=Lehrerblatt!B286,\"Richtig\",\"Falsch\"))","v":""}]
[null,null,{"$f":"IF(ISBLANK(B292),\"\",IF(B292=Lehrerblatt!B287,\"Richtig\",\"Falsch\"))","v":""}]
[null,null,{"$f":"IF(ISBLANK(B293),\"\",IF(B293=Lehrerblatt!B288,\"Richtig\",\"Falsch\"))","v":""}]
[null,null,{"$f":"IF(ISBLANK(B294),\"\",IF(B294=Lehrerblatt!B289,\"Richtig\",\"Falsch\"))","v":""}]
[null,null,{"$f":"IF(ISBLANK(B295),\"\",IF(B295=Lehrerblatt!B290,\"Richtig\",\"Falsch\"))","v":""}]
[null,null,{"$f":"IF(ISBLANK(B296),\"\",IF(B296=Lehrerblatt!B291,\"Richtig\",\"Falsch\"))","v":""}]
[null,null,{"$f":"IF(ISBLANK(B297),\"\",IF(B297=Lehrerblatt!B292,\"Richtig\",\"Falsch\"))","v":""}]
[null,null,{"$f":"IF(ISBLANK(B298),\"\",IF(B298=Lehrerblatt!B293,\"Richtig\",\"Falsch\"))","v":""}]
[null,null,{"$f":"IF(ISBLANK(B299),\"\",IF(B299=Lehrerblatt!B294,\"Richtig\",\"Falsch\"))","v":""}]
[null,null,{"$f":"IF(ISBLANK(B300),\"\",IF(B300=Lehrerblatt!B295,\"Richtig\",\"Falsch\"))","v":""}]

{"sheet":"Lehrerblatt","index":1,"n_rows":193,"n_cols":3,"rows_kept":193,"cut":false,"hidden":false,"merged":[]}
["Term","Wert","Zufallszahl zum Mischen"]
["14 im Quadrat",196,{"$f":"RAND()","v":0.53036324617056563}]
["7 * 17",119,{"$f":"RAND()","v":0.2645670930753703}]
["7 * 22",154,{"$f":"RAND()","v":0.10688098687158609}]
["2 * 20",40,{"$f":"RAND()","v":0.58456049375899122}]
["4 * 16",64,{"$f":"RAND()","v":0.30696798584745577}]
["10 * 16",160,{"$f":"RAND()","v":0.68138592799019171}]
["7 * 15",105,{"$f":"RAND()","v":0.95882402875269945}]
["5 * 13",65,{"$f":"RAND()","v":0.35991817242849422}]
["21 im Quadrat",441,{"$f":"RAND()","v":0.91032340661411848}]
["7 * 23",161,{"$f":"RAND()","v":0.58306633239690453}]
["12 im Quadrat",144,{"$f":"RAND()","v":0.55856887317622705}]
["2 * 13",26,{"$f":"RAND()","v":0.92436182994615312}]
["15 im Quadrat",225,{"$f":"RAND()","v":0.83597335459347566}]
["8 * 45",360,{"$f":"RAND()","v":0.47273922324927276}]
["4 * 18",72,{"$f":"RAND()","v":0.98914478587916876}]
["7 * 12",84,{"$f":"RAND()","v":0.89629703574147013}]
["8 * 19",152,{"$f":"RAND()","v":0.3938572602392334}]
["4 * 17",68,{"$f":"RAND()","v":0.53541915514461214}]
["9 * 15",135,{"$f":"RAND()","v":0.39183144316416996}]
["9 * 20",180,{"$f":"RAND()","v":0.53470271684802817}]
["12 * 13",156,{"$f":"RAND()","v":0.36826402313995021}]
["13 im Quadrat",169,{"$f":"RAND()","v":0.86090445443837593}]
["8 * 24",192,{"$f":"RAND()","v":0.5594620622924531}]
["2 * 21",42,{"$f":"RAND()","v":0.79272650438119474}]
["2 * 14",28,{"$f":"RAND()","v":0.24066314066608241}]
["8 hoch 3",512,{"$f":"RAND()","v":0.31225083016944721}]
["6 * 15",90,{"$f":"RAND()","v":9.4778336958174392E-2}]
["9 * 18",162,{"$f":"RAND()","v":0.59685910494644068}]
["7 * 16",112,{"$f":"RAND()","v":0.9707416474372389}]
["4 * 22",88,{"$f":"RAND()","v":0.58741993078829235}]
["3 * 16",48,{"$f":"RAND()","v":0.94449150778630186}]
["18 im Quadrat",324,{"$f":"RAND()","v":0.74059291245018533}]
["8 * 15",120,{"$f":"RAND()","v":0.85718518745977146}]
["10 * 18",180,{"$f":"RAND()","v":0.47588908710192901}]
["10 * 25",250,{"$f":"RAND()","v":0.92904348480376353}]
["16 im Quadrat",256,{"$f":"RAND()","v":4.1716079476178392E-3}]
["11 im Quadrat",121,{"$f":"RAND()","v":0.83339181479510394}]
["6 * 24",144,{"$f":"RAND()","v":0.52192890339022857}]
["5 * 18",90,{"$f":"RAND()","v":0.13443594897927347}]
["3 * 23",69,{"$f":"RAND()","v":0.16783852899467488}]
["2 * 15",30,{"$f":"RAND()","v":0.85428894097952945}]
["7 * 25",175,{"$f":"RAND()","v":0.60123487093328842}]
["3 * 78",234,{"$f":"RAND()","v":0.34115237580020485}]
["9 * 12",108,{"$f":"RAND()","v":5.7148766287796526E-2}]
["9 * 23",207,{"$f":"RAND()","v":0.16090628535127172}]
["4 * 12",48,{"$f":"RAND()","v":0.49527598350351654}]
["9 * 19",171,{"$f":"RAND()","v":0.68725356343085242}]
["5 * 11",55,{"$f":"RAND()","v":0.26744995446698372}]
["10 * 17",170,{"$f":"RAND()","v":0.76933475991197775}]
["17 im Quadrat",289,{"$f":"RAND()","v":0.31377785514117529}]
["8 * 22",176,{"$f":"RAND()","v":0.71459300501247969}]
["10 * 19",190,{"$f":"RAND()","v":0.59243611609986291}]
["22 im Quadrat",484,{"$f":"RAND()","v":0.59688534182970976}]
["2 * 23",46,{"$f":"RAND()","v":0.59370700444859981}]
["3 * 22",66,{"$f":"RAND()","v":0.83251430186668796}]
["2 * 22",44,{"$f":"RAND()","v":0.89740416790675659}]
["4 * 23",92,{"$f":"RAND()","v":0.23711800556972662}]
["5 * 27",135,{"$f":"RAND()","v":0.37591591274148872}]
["8 * 13",104,{"$f":"RAND()","v":0.10274857214076194}]
["30 im Quadrat",900,{"$f":"RAND()","v":3.6061760916512364E-2}]
["3 * 25",75,{"$f":"RAND()","v":0.77657830801035665}]
["8 * 20",160,{"$f":"RAND()","v":0.51722579055379725}]
["3 hoch 3",27,{"$f":"RAND()","v":0.18281181961552861}]
["4 * 24",96,{"$f":"RAND()","v":0.22077035183248972}]
["3 * 49",147,{"$f":"RAND()","v":0.84006054187677603}]
["7 * 42",294,{"$f":"RAND()","v":0.37969237121877164}]
["5 * 24",120,{"$f":"RAND()","v":0.40975780221651914}]
["9 * 13",117,{"$f":"RAND()","v":0.31053330945902791}]
["2 * 78",156,{"$f":"RAND()","v":0.56988199996735256}]
["6 * 42",252,{"$f":"RAND()","v":0.35698774871941186}]
["3 * 46",138,{"$f":"RAND()","v":0.5754865940574746}]
["70 im Quadrat",4900,{"$f":"RAND()","v":0.89868815806092384}]
["3 * 15",45,{"$f":"RAND()","v":0.25015386629316505}]
["10 * 23",230,{"$f":"RAND()","v":0.28073701899531434}]
["5 * 25",125,{"$f":"RAND()","v":0.63795407404520021}]
["6 * 23",138,{"$f":"RAND()","v":0.869028016213932}]
["23 im Quadrat",529,{"$f":"RAND()","v":0.35575305336077412}]
["7 * 21",147,{"$f":"RAND()","v":0.22535547623563867}]
["2 hoch 3",8,{"$f":"RAND()","v":0.3887961064015677}]
["10 * 14",140,{"$f":"RAND()","v":0.84119722324689061}]
["3 * 18",54,{"$f":"RAND()","v":0.53606112066453726}]
["9 * 14",126,{"$f":"RAND()","v":0.52217915270959503}]
["3 * 24",72,{"$f":"RAND()","v":0.89757164781675658}]
["3 * 17",51,{"$f":"RAND()","v":0.29279997700471183}]
["19 im Quadrat",361,{"$f":"RAND()","v":0.64947587225933701}]
["10 * 11",110,{"$f":"RAND()","v":0.209172014296929}]
["7 * 14",98,{"$f":"RAND()","v":0.32887935876623409}]
["5 * 16",80,{"$f":"RAND()","v":0.28590748329349747}]
["7 * 18",126,{"$f":"RAND()","v":0.64701720946720098}]
["7 * 24",168,{"$f":"RAND()","v":0.29481351981100845}]
["7 * 38",266,{"$f":"RAND()","v":0.37859393149820475}]
["8 * 21",168,{"$f":"RAND()","v":2.2243186644888446E-2}]
["4 * 11",44,{"$f":"RAND()","v":8.4570564985495866E-2}]
["9 * 17",153,{"$f":"RAND()","v":0.69818175891676948}]
["9 * 25",225,{"$f":"RAND()","v":0.35051942260067026}]
["7 * 20",140,{"$f":"RAND()","v":0.76836050742576445}]
["2 * 12",24,{"$f":"RAND()","v":0.76459647382725715}]
["9 * 21",189,{"$f":"RAND()","v":0.94927847384652653}]
["6 hoch 3",216,{"$f":"RAND()","v":0.85505721136167112}]
["5 * 21",105,{"$f":"RAND()","v":0.1139472014283669}]
["11 * 28",308,{"$f":"RAND()","v":0.27210317407690388}]
["7 * 11",77,{"$f":"RAND()","v":0.84201989972487534}]
["9 * 34",306,{"$f":"RAND()","v":0.8780557494114043}]
["3 * 19",57,{"$f":"RAND()","v":0.28961708870893033}]
["4 * 14",56,{"$f":"RAND()","v":0.85274008534325085}]
["10 hoch 3",1000,{"$f":"RAND()","v":9.1003378196787277E-2}]
["5 * 19",95,{"$f":"RAND()","v":1.3408711486476599E-2}]
["10 * 21",210,{"$f":"RAND()","v":0.50041552605347439}]
["10 * 15",150,{"$f":"RAND()","v":0.8408578913866398}]
["90 im Quadrat",8100,{"$f":"RAND()","v":0.84709026250511776}]
["6 * 14",84,{"$f":"RAND()","v":0.59228658031944037}]
["3 * 14",42,{"$f":"RAND()","v":2.5500837235572726E-2}]
["24 im Quadrat",576,{"$f":"RAND()","v":5.4437094854208889E-2}]
["7 * 33",231,{"$f":"RAND()","v":0.14241399421246914}]
["4 * 58",232,{"$f":"RAND()","v":0.77840476176706508}]
["10 * 20",200,{"$f":"RAND()","v":0.4249463638144132}]
["5 * 14",70,{"$f":"RAND()","v":0.80542207008938715}]
["8 * 17",136,{"$f":"RAND()","v":2.5418788633245537E-2}]
["5 * 15",75,{"$f":"RAND()","v":8.3840613068491998E-2}]
["6 * 22",132,{"$f":"RAND()","v":0.82875320162325317}]
["4 hoch 3",64,{"$f":"RAND()","v":0.40285307630303391}]
["8 * 14",112,{"$f":"RAND()","v":0.33351298919817107}]
["4 * 20",80,{"$f":"RAND()","v":0.56393348701631785}]
["20 im Quadrat",400,{"$f":"RAND()","v":0.75312697261560579}]
["3 * 12",36,{"$f":"RAND()","v":0.95155580927238104}]
["5 * 20",100,{"$f":"RAND()","v":0.52472191650461397}]
["6 * 20",120,{"$f":"RAND()","v":0.89306302848354746}]
["6 * 19",114,{"$f":"RAND()","v":0.94308414991046097}]
["5 * 17",85,{"$f":"RAND()","v":0.65279029700242253}]
["6 * 16",96,{"$f":"RAND()","v":0.99535071630697702}]
["3 * 21",63,{"$f":"RAND()","v":6.6070216670206738E-2}]
["9 * 11",99,{"$f":"RAND()","v":0.16284406480327973}]
["2 * 18",36,{"$f":"RAND()","v":0.13745021957576908}]
["4 * 13",52,{"$f":"RAND()","v":0.70602610684089095}]
["5 * 59",285,{"$f":"RAND()","v":0.54440657893046285}]
["4 * 15",60,{"$f":"RAND()","v":0.27525838404323533}]
["25 im Quadrat",625,{"$f":"RAND()","v":0.25488229273569052}]
["5 * 23",115,{"$f":"RAND()","v":0.78701238849836963}]
["6 * 21",126,{"$f":"RAND()","v":0.99808458132146838}]
["40 im Quadrat",1600,{"$f":"RAND()","v":0.95087892480738589}]
["8 * 25",200,{"$f":"RAND()","v":0.42680908122143946}]
["4 * 21",84,{"$f":"RAND()","v":0.57972422109713395}]
["8 * 11",88,{"$f":"RAND()","v":0.91266989554049383}]
["9 * 32",288,{"$f":"RAND()","v":0.80847861828681788}]
["7 * 49",343,{"$f":"RAND()","v":0.20781028604042273}]
["5 * 22",110,{"$f":"RAND()","v":9.2926263242845142E-2}]
["6 * 13",78,{"$f":"RAND()","v":0.93128711164364086}]
["8 * 18",144,{"$f":"RAND()","v":0.64491434673275161}]
["2 hoch 5",32,{"$f":"RAND()","v":0.12425120997884709}]
["2 * 25",50,{"$f":"RAND()","v":0.60152417943758674}]
["4 * 29",116,{"$f":"RAND()","v":0.56140287790757093}]
["10 * 22",220,{"$f":"RAND()","v":0.21794297653989314}]
["4 * 19",76,{"$f":"RAND()","v":0.24975737603741743}]
["6 * 17",102,{"$f":"RAND()","v":0.38960113026889132}]
["10 * 12",120,{"$f":"RAND()","v":0.66149822905857303}]
["2 * 17",34,{"$f":"RAND()","v":0.69682923321590196}]
["10 * 13",130,{"$f":"RAND()","v":0.20279758127074765}]
["8 * 16",128,{"$f":"RAND()","v":5.886259097222446E-2}]
["31 im Quadrat",961,{"$f":"RAND()","v":0.50973683326994379}]
["9 * 22",198,{"$f":"RAND()","v":0.48221117776672506}]
["3 hoch 4",81,{"$f":"RAND()","v":0.58750128681899128}]
["10 * 24",240,{"$f":"RAND()","v":0.15403875623397756}]
["3 * 20",60,{"$f":"RAND()","v":0.93956411558883235}]
["9 * 24",216,{"$f":"RAND()","v":0.98310337642898327}]
["4 * 25",100,{"$f":"RAND()","v":0.68848640561982943}]
["6 * 12",72,{"$f":"RAND()","v":0.17363834474683715}]
["7 hoch 3",343,{"$f":"RAND()","v":0.27557947454573839}]
["2 * 11",22,{"$f":"RAND()","v":0.31083147535665645}]
["5 * 88",440,{"$f":"RAND()","v":0.59841049919494482}]
["3 * 13",39,{"$f":"RAND()","v":0.55953425771924481}]
["11 * 37",407,{"$f":"RAND()","v":0.35002610460946748}]
["6 * 25",150,{"$f":"RAND()","v":0.99650521903163569}]
["7 * 13",91,{"$f":"RAND()","v":0.60064343566400324}]
["2 * 16",32,{"$f":"RAND()","v":0.97465608381726954}]
["9 hoch 3",729,{"$f":"RAND()","v":5.5773968585331124E-2}]
["6 * 18",108,{"$f":"RAND()","v":0.24848026542110846}]
["9 * 16",144,{"$f":"RAND()","v":0.87819665483209142}]
["3 * 11",33,{"$f":"RAND()","v":7.7664013241590224E-2}]
["4 * 38",152,{"$f":"RAND()","v":0.66553041885591402}]
["11 * 57",267,{"$f":"RAND()","v":0.44813254530809588}]
["8 * 23",184,{"$f":"RAND()","v":0.35379939591500742}]
["4 * 27",108,{"$f":"RAND()","v":0.9403085679226546}]
["8 * 46",368,{"$f":"RAND()","v":0.34116338606164143}]
["7 * 19",133,{"$f":"RAND()","v":0.75325761081173037}]
["11 * 14",154,{"$f":"RAND()","v":0.80063319281659662}]
["50 im Quadrat",2500,{"$f":"RAND()","v":0.16456776740675116}]
["8 * 12",96,{"$f":"RAND()","v":0.60647918853321858}]
["2 * 24",48,{"$f":"RAND()","v":0.94858477514046668}]
["6 * 11",66,{"$f":"RAND()","v":0.68725664796929697}]
["5 hoch 3",125,{"$f":"RAND()","v":0.98213885838938098}]
["5 * 12",60,{"$f":"RAND()","v":0.80664055264993606}]
["2 * 19",38,{"$f":"RAND()","v":0.78136133485991188}]